|SUCCESS| pw152098 [PATCH] app/test-pmd: enable hw checksum offload

dpdklab at iol.unh.edu dpdklab at iol.unh.edu
Fri Feb 28 15:17:21 CET 2025


Test-Label: iol-unit-arm64-testing
Test-Status: SUCCESS
http://dpdk.org/patch/152098

_Testing PASS_

Submitter: Nicolas PLANEL <nplanel at cisco.com>
Date: Wednesday, February 26 2025 13:41:47 
DPDK git baseline: Repo:dpdk
  Branch: master
  CommitID:1072abce4f05f4ee6c44557f25b673bdcf4ef306

152098 --> testing pass

Upstream job id: Generic-Unit-Test-DPDK#319952

Test environment and result as below:

+-----------------------------+--------------+----------------+------------------------------+---------------------------+
|         Environment         | lpm_autotest | dpdk_unit_test | cryptodev_sw_snow3g_autotest | cryptodev_sw_zuc_autotest |
+=============================+==============+================+==============================+===========================+
| Ubuntu 20.04 ARM SVE        | PASS         | SKIPPED        | SKIPPED                      | SKIPPED                   |
+-----------------------------+--------------+----------------+------------------------------+---------------------------+
| 32-bit Ubuntu 22.04.4 (ARM) | SKIPPED      | PASS           | SKIPPED                      | SKIPPED                   |
+-----------------------------+--------------+----------------+------------------------------+---------------------------+
| CentOS Stream 9 (ARM)       | SKIPPED      | PASS           | SKIPPED                      | SKIPPED                   |
+-----------------------------+--------------+----------------+------------------------------+---------------------------+
| CentOS Stream 10 (ARM)      | SKIPPED      | PASS           | SKIPPED                      | SKIPPED                   |
+-----------------------------+--------------+----------------+------------------------------+---------------------------+
| Debian 11 (Buster) (ARM)    | SKIPPED      | PASS           | SKIPPED                      | SKIPPED                   |
+-----------------------------+--------------+----------------+------------------------------+---------------------------+
| Debian 12 (arm)             | SKIPPED      | PASS           | PASS                         | PASS                      |
+-----------------------------+--------------+----------------+------------------------------+---------------------------+
| Fedora 40 (ARM Clang)       | SKIPPED      | PASS           | SKIPPED                      | SKIPPED                   |
+-----------------------------+--------------+----------------+------------------------------+---------------------------+
| Fedora 40 (ARM)             | SKIPPED      | PASS           | SKIPPED                      | SKIPPED                   |
+-----------------------------+--------------+----------------+------------------------------+---------------------------+
| Fedora 41 (ARM Clang)       | SKIPPED      | PASS           | SKIPPED                      | SKIPPED                   |
+-----------------------------+--------------+----------------+------------------------------+---------------------------+
| RHEL9 (ARM)                 | SKIPPED      | PASS           | SKIPPED                      | SKIPPED                   |
+-----------------------------+--------------+----------------+------------------------------+---------------------------+
| Fedora 41 (ARM)             | SKIPPED      | PASS           | SKIPPED                      | SKIPPED                   |
+-----------------------------+--------------+----------------+------------------------------+---------------------------+
| Ubuntu 20.04 (ARM)          | SKIPPED      | PASS           | SKIPPED                      | SKIPPED                   |
+-----------------------------+--------------+----------------+------------------------------+---------------------------+
| Ubuntu 22.04 (ARM)          | SKIPPED      | PASS           | SKIPPED                      | SKIPPED                   |
+-----------------------------+--------------+----------------+------------------------------+---------------------------+
| Ubuntu 24.04 (ARM)          | SKIPPED      | PASS           | SKIPPED                      | SKIPPED                   |
+-----------------------------+--------------+----------------+------------------------------+---------------------------+


Ubuntu 20.04 ARM SVE
	Kernel: Depends on container host
	Compiler: gcc (Ubuntu 10.5.0-1ubuntu1~20.04) 10.5.0

32-bit Ubuntu 22.04.4 (ARM)
	Kernel: 5.15.83+ aarch64
	Compiler: gcc (Ubuntu 11.4.0-1ubuntu1~22.04) 11.4.0

CentOS Stream 9 (ARM)
	Kernel: Depends on container host
	Compiler: gcc 11.5.0 20240719 (Red Hat 11.5.0-2)

CentOS Stream 10 (ARM)
	Kernel: Depends on container host
	Compiler: gcc 14.2.1 20241104 (Red Hat 14.2.1-6)

Debian 11 (Buster) (ARM)
	Kernel: Depends on container host
	Compiler: gcc (Debian 10.2.1-6) 10.2.1 20210110

Debian 12 (arm)
	Kernel: Depends on container host
	Compiler: gcc (Debian 12.2.0-14) 12.2.0

Fedora 40 (ARM Clang)
	Kernel: Depends on container host
	Compiler: clang 18.1.8 (Fedora 18.1.8-1.fc40)

Fedora 40 (ARM)
	Kernel: Depends on container host
	Compiler: gcc 14.2.1 20240912 (Red Hat 14.2.1-3)

Fedora 41 (ARM Clang)
	Kernel: Depends on container host
	Compiler: clang 19.1.5 (Fedora 19.1.5-1.fc41)

RHEL9 (ARM)
	Kernel: Depends on container host
	Compiler: gcc 11.5.0 20240719 (Red Hat 11.5.0-2)

Fedora 41 (ARM)
	Kernel: Depends on container host
	Compiler: gcc 14.2.1 20240912 (Red Hat 14.2.1-3)

Ubuntu 20.04 (ARM)
	Kernel: Depends on container host
	Compiler: gcc (Ubuntu 9.4.0-1ubuntu1~20.04.2) 9.4.0

Ubuntu 22.04 (ARM)
	Kernel: Depends on container host
	Compiler: gcc (Ubuntu 11.4.0-1ubuntu1~22.04) 11.4.0

Ubuntu 24.04 (ARM)
	Kernel: Depends on container host
	Compiler: gcc (Ubuntu 13.3.0-6ubuntu2~24.04) 13.3.0

To view detailed results, visit:
https://lab.dpdk.org/results/dashboard/patchsets/32694/

UNH-IOL DPDK Community Lab

To manage your email subscriptions, visit: 
https://lab.dpdk.org/results/dashboard/preferences/subscriptions/


More information about the test-report mailing list