|SUCCESS| pw149612 [PATCH] app/test-fib: enable test-fib on Windows

dpdklab at iol.unh.edu dpdklab at iol.unh.edu
Sun Jan 5 00:32:16 CET 2025


Test-Label: iol-unit-arm64-testing
Test-Status: SUCCESS
http://dpdk.org/patch/149612

_Testing PASS_

Submitter: Andre Muezerie <andremue at linux.microsoft.com>
Date: Saturday, January 04 2025 22:09:54 
DPDK git baseline: Repo:dpdk
  Branch: master
  CommitID:fd51012de5369679e807be1d6a81d63ef15015ce

149612 --> testing pass

Upstream job id: Aarch32-Unit-Test#4826

Test environment and result as below:

+-----------------------------+--------------+------------------------------+----------------+---------------------------+
|         Environment         | lpm_autotest | cryptodev_sw_snow3g_autotest | dpdk_unit_test | cryptodev_sw_zuc_autotest |
+=============================+==============+==============================+================+===========================+
| Ubuntu 20.04 ARM SVE        | PASS         | SKIPPED                      | SKIPPED        | SKIPPED                   |
+-----------------------------+--------------+------------------------------+----------------+---------------------------+
| Debian 12 (arm)             | SKIPPED      | PASS                         | PASS           | PASS                      |
+-----------------------------+--------------+------------------------------+----------------+---------------------------+
| Debian 11 (Buster) (ARM)    | SKIPPED      | SKIPPED                      | PASS           | SKIPPED                   |
+-----------------------------+--------------+------------------------------+----------------+---------------------------+
| CentOS Stream 9 (ARM)       | SKIPPED      | SKIPPED                      | PASS           | SKIPPED                   |
+-----------------------------+--------------+------------------------------+----------------+---------------------------+
| Ubuntu 20.04 (ARM)          | SKIPPED      | SKIPPED                      | PASS           | SKIPPED                   |
+-----------------------------+--------------+------------------------------+----------------+---------------------------+
| Fedora 41 (ARM Clang)       | SKIPPED      | SKIPPED                      | PASS           | SKIPPED                   |
+-----------------------------+--------------+------------------------------+----------------+---------------------------+
| Fedora 41 (ARM)             | SKIPPED      | SKIPPED                      | PASS           | SKIPPED                   |
+-----------------------------+--------------+------------------------------+----------------+---------------------------+
| Ubuntu 24.04 (ARM)          | SKIPPED      | SKIPPED                      | PASS           | SKIPPED                   |
+-----------------------------+--------------+------------------------------+----------------+---------------------------+
| Ubuntu 22.04 (ARM)          | SKIPPED      | SKIPPED                      | PASS           | SKIPPED                   |
+-----------------------------+--------------+------------------------------+----------------+---------------------------+
| RHEL9 (ARM)                 | SKIPPED      | SKIPPED                      | PASS           | SKIPPED                   |
+-----------------------------+--------------+------------------------------+----------------+---------------------------+
| Fedora 40 (ARM Clang)       | SKIPPED      | SKIPPED                      | PASS           | SKIPPED                   |
+-----------------------------+--------------+------------------------------+----------------+---------------------------+
| Fedora 40 (ARM)             | SKIPPED      | SKIPPED                      | PASS           | SKIPPED                   |
+-----------------------------+--------------+------------------------------+----------------+---------------------------+
| 32-bit Ubuntu 22.04.4 (ARM) | SKIPPED      | SKIPPED                      | PASS           | SKIPPED                   |
+-----------------------------+--------------+------------------------------+----------------+---------------------------+


Ubuntu 20.04 ARM SVE
	Kernel: Depends on container host
	Compiler: gcc (Ubuntu 10.5.0-1ubuntu1~20.04) 10.5.0

Debian 12 (arm)
	Kernel: Depends on container host
	Compiler: gcc (Debian 12.2.0-14) 12.2.0

Debian 11 (Buster) (ARM)
	Kernel: Depends on container host
	Compiler: gcc (Debian 10.2.1-6) 10.2.1 20210110

CentOS Stream 9 (ARM)
	Kernel: Depends on container host
	Compiler: gcc 11.5.0 20240719 (Red Hat 11.5.0-2)

Ubuntu 20.04 (ARM)
	Kernel: Depends on container host
	Compiler: gcc (Ubuntu 9.4.0-1ubuntu1~20.04.2) 9.4.0

Fedora 41 (ARM Clang)
	Kernel: Depends on container host
	Compiler: clang 19.1.5 (Fedora 19.1.5-1.fc41)

Fedora 41 (ARM)
	Kernel: Depends on container host
	Compiler: gcc 14.2.1 20240912 (Red Hat 14.2.1-3)

Ubuntu 24.04 (ARM)
	Kernel: Depends on container host
	Compiler: gcc (Ubuntu 13.3.0-6ubuntu2~24.04) 13.3.0

Ubuntu 22.04 (ARM)
	Kernel: Depends on container host
	Compiler: gcc (Ubuntu 11.4.0-1ubuntu1~22.04) 11.4.0

RHEL9 (ARM)
	Kernel: Depends on container host
	Compiler: gcc 11.5.0 20240719 (Red Hat 11.5.0-2)

Fedora 40 (ARM Clang)
	Kernel: Depends on container host
	Compiler: clang 18.1.8 (Fedora 18.1.8-1.fc40)

Fedora 40 (ARM)
	Kernel: Depends on container host
	Compiler: gcc 14.2.1 20240912 (Red Hat 14.2.1-3)

32-bit Ubuntu 22.04.4 (ARM)
	Kernel: 5.15.83+ aarch64
	Compiler: gcc (Ubuntu 11.4.0-1ubuntu1~22.04) 11.4.0

To view detailed results, visit:
https://lab.dpdk.org/results/dashboard/patchsets/32251/

UNH-IOL DPDK Community Lab

To manage your email subscriptions, visit: 
https://lab.dpdk.org/results/dashboard/preferences/subscriptions/


More information about the test-report mailing list