|SUCCESS| pw149663 [PATCH] dts: fix MTU set command

dpdklab at iol.unh.edu dpdklab at iol.unh.edu
Tue Jan 7 17:06:49 CET 2025


Test-Label: iol-compile-amd64-testing
Test-Status: SUCCESS
http://dpdk.org/patch/149663

_Testing PASS_

Submitter: Luca Vizzarro <luca.vizzarro at arm.com>
Date: Tuesday, January 07 2025 14:11:25 
DPDK git baseline: Repo:dpdk
  Branch: master
  CommitID:fd51012de5369679e807be1d6a81d63ef15015ce

149663 --> testing pass

Upstream job id: Windows-Compile-DPDK-Native#25723

Test environment and result as below:

+---------------------+-------------------+--------------------+-----------------------+
|     Environment     | dpdk_msvc_compile | dpdk_meson_compile | dpdk_win_llvm_compile |
+=====================+===================+====================+=======================+
| Windows Server 2022 | PASS              | SKIPPED            | PASS                  |
+---------------------+-------------------+--------------------+-----------------------+
| FreeBSD 13.4        | SKIPPED           | PASS               | SKIPPED               |
+---------------------+-------------------+--------------------+-----------------------+
| FreeBSD 14.2        | SKIPPED           | PASS               | SKIPPED               |
+---------------------+-------------------+--------------------+-----------------------+


Windows Server 2022
	Kernel: 10.0.20348.2031
	Compiler: clang 15.0.7, gcc 14.1.0 (MinGW), and MSVC VS 19.39.33521

FreeBSD 13.4
	Kernel: 13.4-RELEASE-p1
	Compiler: clang 18.1.6

FreeBSD 14.2
	Kernel: 14.2-RELEASE
	Compiler: clang 18.1.6

To view detailed results, visit:
https://lab.dpdk.org/results/dashboard/patchsets/32266/

UNH-IOL DPDK Community Lab

To manage your email subscriptions, visit: 
https://lab.dpdk.org/results/dashboard/preferences/subscriptions/


More information about the test-report mailing list