|SUCCESS| pw150538 [PATCH] net/virtio: add virtio hash report featur

dpdklab at iol.unh.edu dpdklab at iol.unh.edu
Sun Jan 26 22:15:15 CET 2025


Test-Label: iol-abi-testing
Test-Status: SUCCESS
http://dpdk.org/patch/150538

_Testing PASS_

Submitter: Kommula Shiva Shankar <kshankar at marvell.com>
Date: Sunday, January 26 2025 19:34:04 
DPDK git baseline: Repo:dpdk
  Branch: master
  CommitID:d92688baedcfc963b7539899347012a09c45a15b

150538 --> testing pass

Upstream job id: Generic-DPDK-Compile-ABI#113790

Test environment and result as below:

+-------------------+----------+
|    Environment    | abi_test |
+===================+==========+
| Fedora 41 (Clang) | PASS     |
+-------------------+----------+
| Debian Bullseye   | PASS     |
+-------------------+----------+
| Debian 12         | PASS     |
+-------------------+----------+
| Ubuntu 22.04      | PASS     |
+-------------------+----------+
| Fedora 40 (Clang) | PASS     |
+-------------------+----------+
| Ubuntu 24.04      | PASS     |
+-------------------+----------+
| openSUSE Leap 15  | PASS     |
+-------------------+----------+
| RHEL9             | PASS     |
+-------------------+----------+
| Fedora 40         | PASS     |
+-------------------+----------+
| Fedora 41         | PASS     |
+-------------------+----------+
| RHEL8             | PASS     |
+-------------------+----------+
| CentOS Stream 9   | PASS     |
+-------------------+----------+


Fedora 41 (Clang)
	Kernel: Depends on container host
	Compiler: clang 19.1.5 (Fedora 19.1.5-1.fc41)

Debian Bullseye
	Kernel: Depends on container host
	Compiler: gcc (Debian 10.2.1-6) 10.2.1 20210110

Debian 12
	Kernel: Depends on container host
	Compiler: gcc (Debian 12.2.0-14) 12.2.0

Ubuntu 22.04
	Kernel: Depends on container host
	Compiler: gcc (Ubuntu 11.4.0-1ubuntu1~22.04) 11.4.0

Fedora 40 (Clang)
	Kernel: Depends on container host
	Compiler: clang 18.1.8 (Fedora 18.1.8-1.fc40)

Ubuntu 24.04
	Kernel: Depends on container host
	Compiler: gcc (Ubuntu 13.3.0-6ubuntu2~24.04) 13.3.0

openSUSE Leap 15
	Kernel: Depends on container host
	Compiler: gcc (SUSE Linux) 7.5.0

RHEL9
	Kernel: Depends on container host
	Compiler: gcc 11.5.0 20240719 (Red Hat 11.5.0-2)

Fedora 40
	Kernel: Depends on container host
	Compiler: gcc 14.2.1 20240912 (Red Hat 14.2.1-3)

Fedora 41
	Kernel: Depends on container host
	Compiler: gcc 14.2.1 20240912 (Red Hat 14.2.1-3)

RHEL8
	Kernel: Depends on container host
	Compiler: gcc 8.5.0 20210514 (Red Hat 8.5.0-22)

CentOS Stream 9
	Kernel: Depends on container host
	Compiler: gcc 11.5.0 20240719 (Red Hat 11.5.0-2)

To view detailed results, visit:
https://lab.dpdk.org/results/dashboard/patchsets/32428/

UNH-IOL DPDK Community Lab

To manage your email subscriptions, visit: 
https://lab.dpdk.org/results/dashboard/preferences/subscriptions/


More information about the test-report mailing list