|SUCCESS| pw150540 [PATCH] [v2] net/virtio: add virtio hash report f
dpdklab at iol.unh.edu
dpdklab at iol.unh.edu
Mon Jan 27 11:40:25 CET 2025
Test-Label: iol-abi-testing
Test-Status: SUCCESS
http://dpdk.org/patch/150540
_Testing PASS_
Submitter: Kommula Shiva Shankar <kshankar at marvell.com>
Date: Monday, January 27 2025 07:41:50
DPDK git baseline: Repo:dpdk
Branch: master
CommitID:d92688baedcfc963b7539899347012a09c45a15b
150540 --> testing pass
Upstream job id: Generic-DPDK-Compile-ABI#113857
Test environment and result as below:
+-------------------+----------+
| Environment | abi_test |
+===================+==========+
| Debian Bullseye | PASS |
+-------------------+----------+
| Ubuntu 24.04 | PASS |
+-------------------+----------+
| CentOS Stream 9 | PASS |
+-------------------+----------+
| Debian 12 | PASS |
+-------------------+----------+
| Fedora 40 (Clang) | PASS |
+-------------------+----------+
| Fedora 41 | PASS |
+-------------------+----------+
| Ubuntu 22.04 | PASS |
+-------------------+----------+
| Fedora 41 (Clang) | PASS |
+-------------------+----------+
| openSUSE Leap 15 | PASS |
+-------------------+----------+
| Fedora 40 | PASS |
+-------------------+----------+
| RHEL9 | PASS |
+-------------------+----------+
| RHEL8 | PASS |
+-------------------+----------+
Debian Bullseye
Kernel: Depends on container host
Compiler: gcc (Debian 10.2.1-6) 10.2.1 20210110
Ubuntu 24.04
Kernel: Depends on container host
Compiler: gcc (Ubuntu 13.3.0-6ubuntu2~24.04) 13.3.0
CentOS Stream 9
Kernel: Depends on container host
Compiler: gcc 11.5.0 20240719 (Red Hat 11.5.0-2)
Debian 12
Kernel: Depends on container host
Compiler: gcc (Debian 12.2.0-14) 12.2.0
Fedora 40 (Clang)
Kernel: Depends on container host
Compiler: clang 18.1.8 (Fedora 18.1.8-1.fc40)
Fedora 41
Kernel: Depends on container host
Compiler: gcc 14.2.1 20240912 (Red Hat 14.2.1-3)
Ubuntu 22.04
Kernel: Depends on container host
Compiler: gcc (Ubuntu 11.4.0-1ubuntu1~22.04) 11.4.0
Fedora 41 (Clang)
Kernel: Depends on container host
Compiler: clang 19.1.5 (Fedora 19.1.5-1.fc41)
openSUSE Leap 15
Kernel: Depends on container host
Compiler: gcc (SUSE Linux) 7.5.0
Fedora 40
Kernel: Depends on container host
Compiler: gcc 14.2.1 20240912 (Red Hat 14.2.1-3)
RHEL9
Kernel: Depends on container host
Compiler: gcc 11.5.0 20240719 (Red Hat 11.5.0-2)
RHEL8
Kernel: Depends on container host
Compiler: gcc 8.5.0 20210514 (Red Hat 8.5.0-22)
To view detailed results, visit:
https://lab.dpdk.org/results/dashboard/patchsets/32430/
UNH-IOL DPDK Community Lab
To manage your email subscriptions, visit:
https://lab.dpdk.org/results/dashboard/preferences/subscriptions/
More information about the test-report
mailing list