|SUCCESS| pw150647 [PATCH] dma/idxd: add device ids for new HW versi

dpdklab at iol.unh.edu dpdklab at iol.unh.edu
Thu Jan 30 19:47:05 CET 2025


Test-Label: iol-compile-amd64-testing
Test-Status: SUCCESS
http://dpdk.org/patch/150647

_Testing PASS_

Submitter: Bruce Richardson <bruce.richardson at intel.com>
Date: Thursday, January 30 2025 17:26:25 
DPDK git baseline: Repo:dpdk
  Branch: master
  CommitID:8c565bbebb8f72decbc4af6a69cb76f07bffc472

150647 --> testing pass

Upstream job id: Windows-Compile-DPDK-Native#26222

Test environment and result as below:

+---------------------+--------------------+-------------------+----------------------+
|     Environment     | dpdk_meson_compile | dpdk_msvc_compile | dpdk_mingw64_compile |
+=====================+====================+===================+======================+
| FreeBSD 13.4        | PASS               | SKIPPED           | SKIPPED              |
+---------------------+--------------------+-------------------+----------------------+
| FreeBSD 14.2        | PASS               | SKIPPED           | SKIPPED              |
+---------------------+--------------------+-------------------+----------------------+
| Windows Server 2022 | SKIPPED            | PASS              | PASS                 |
+---------------------+--------------------+-------------------+----------------------+


FreeBSD 13.4
	Kernel: 13.4-RELEASE-p1
	Compiler: clang 18.1.6

FreeBSD 14.2
	Kernel: 14.2-RELEASE
	Compiler: clang 18.1.6

Windows Server 2022
	Kernel: 10.0.20348.2031
	Compiler: clang 15.0.7, gcc 14.1.0 (MinGW), and MSVC VS 19.39.33521

To view detailed results, visit:
https://lab.dpdk.org/results/dashboard/patchsets/32464/

UNH-IOL DPDK Community Lab

To manage your email subscriptions, visit: 
https://lab.dpdk.org/results/dashboard/preferences/subscriptions/


More information about the test-report mailing list