[dpdk-test-report] |SUCCESS| pw63423-63425 [PATCH] [1/3] net/bnxt:	rework code to select chip type
    dpdklab at iol.unh.edu 
    dpdklab at iol.unh.edu
       
    Mon Dec  2 05:42:10 CET 2019
    
    
  
Test-Label: iol-compilation
Test-Status: SUCCESS
http://dpdk.org/patch/63423
_Compile Testing PASS_
Submitter: Kalesh A P <kalesh-anakkur.purayil at broadcom.com>
Date: Monday, December 02 2019 04:18:07 
DPDK git baseline: Repo:dpdk
  Branch: master
  CommitID:7001c8fdb27357c67147c0a13cb3826e48c0f2bf
63423-63425 --> compile testing pass
Test environment and result as below:
+--------------+------------------+-------------------+--------------+
| Environment  | dpdk_compile_ovs | dpdk_compile_spdk | dpdk_compile |
+==============+==================+===================+==============+
| Ubuntu 18.04 | PASS             | PASS              | PASS         |
+--------------+------------------+-------------------+--------------+
| CentOS 8     | PASS             | SKIPPED           | PASS         |
+--------------+------------------+-------------------+--------------+
| FreeBSD 11.2 | SKIPPED          | PASS              | PASS         |
+--------------+------------------+-------------------+--------------+
Ubuntu 18.04
	Kernel: 4.15.0-generic
	GCC: 7.4
CentOS 8
	Kernel: 4.18.0.el8_0
	GCC: 8.2
FreeBSD 11.2
	Kernel: 11.2
	GCC: 8.3
https://lab.dpdk.org/results/dashboard/patchsets/8779/
UNH-IOL DPDK Performance Test Lab
To manage your email subscriptions visit: 
https://lab.dpdk.org/results/dashboard/preferences/subscriptions/
    
    
More information about the test-report
mailing list