[dpdk-test-report] |SUCCESS| pw63426 [PATCH] kernel/linux: fix kernel dir for meson
dpdklab at iol.unh.edu
dpdklab at iol.unh.edu
Mon Dec 2 07:56:57 CET 2019
Test-Label: iol-compilation
Test-Status: SUCCESS
http://dpdk.org/patch/63426
_Compile Testing PASS_
Submitter: Xiaolong Ye <xiaolong.ye at intel.com>
Date: Monday, December 02 2019 06:14:41
DPDK git baseline: Repo:dpdk
Branch: master
CommitID:7001c8fdb27357c67147c0a13cb3826e48c0f2bf
63426 --> compile testing pass
Test environment and result as below:
+--------------+------------------+-------------------+--------------+
| Environment | dpdk_compile_ovs | dpdk_compile_spdk | dpdk_compile |
+==============+==================+===================+==============+
| Ubuntu 18.04 | PASS | PASS | PASS |
+--------------+------------------+-------------------+--------------+
| CentOS 8 | PASS | SKIPPED | PASS |
+--------------+------------------+-------------------+--------------+
| FreeBSD 11.2 | SKIPPED | PASS | PASS |
+--------------+------------------+-------------------+--------------+
Ubuntu 18.04
Kernel: 4.15.0-generic
GCC: 7.4
CentOS 8
Kernel: 4.18.0.el8_0
GCC: 8.2
FreeBSD 11.2
Kernel: 11.2
GCC: 8.3
https://lab.dpdk.org/results/dashboard/patchsets/8780/
UNH-IOL DPDK Performance Test Lab
To manage your email subscriptions visit:
https://lab.dpdk.org/results/dashboard/preferences/subscriptions/
More information about the test-report
mailing list