[dpdk-test-report] |SUCCESS| pw63508 [PATCH] net/ixgbe: enable jumbo frame for VF
dpdklab at iol.unh.edu
dpdklab at iol.unh.edu
Tue Dec 3 03:57:31 CET 2019
Test-Label: iol-compilation
Test-Status: SUCCESS
http://dpdk.org/patch/63508
_Compile Testing PASS_
Submitter: Junyu Jiang <junyux.jiang at intel.com>
Date: Monday, December 02 2019 20:03:27
DPDK git baseline: Repo:dpdk
Branch: master
CommitID:d51827a9815d1e1b97828013ea2ef4760cf61dc9
63508 --> compile testing pass
Test environment and result as below:
+--------------+--------------+-------------------+------------------+
| Environment | dpdk_compile | dpdk_compile_spdk | dpdk_compile_ovs |
+==============+==============+===================+==================+
| Ubuntu 18.04 | PASS | PASS | PASS |
+--------------+--------------+-------------------+------------------+
| FreeBSD 11.2 | PASS | PASS | SKIPPED |
+--------------+--------------+-------------------+------------------+
| CentOS 8 | PASS | SKIPPED | PASS |
+--------------+--------------+-------------------+------------------+
Ubuntu 18.04
Kernel: 4.15.0-generic
GCC: 7.4
FreeBSD 11.2
Kernel: 11.2
GCC: 8.3
CentOS 8
Kernel: 4.18.0.el8_0
GCC: 8.2
https://lab.dpdk.org/results/dashboard/patchsets/8789/
UNH-IOL DPDK Performance Test Lab
To manage your email subscriptions visit:
https://lab.dpdk.org/results/dashboard/preferences/subscriptions/
More information about the test-report
mailing list