[dpdk-test-report] |SUCCESS| pw63544 [PATCH] [v3] kernel/linux: fix kernel dir for meson

dpdklab at iol.unh.edu dpdklab at iol.unh.edu
Tue Dec 3 17:57:37 CET 2019


Test-Label: iol-compilation
Test-Status: SUCCESS
http://dpdk.org/patch/63544

_Compile Testing PASS_

Submitter: Xiaolong Ye <xiaolong.ye at intel.com>
Date: Tuesday, December 03 2019 15:59:22 
DPDK git baseline: Repo:dpdk
  Branch: master
  CommitID:d51827a9815d1e1b97828013ea2ef4760cf61dc9

63544 --> compile testing pass

Test environment and result as below:

+--------------+-------------------+--------------+------------------+
| Environment  | dpdk_compile_spdk | dpdk_compile | dpdk_compile_ovs |
+==============+===================+==============+==================+
| Ubuntu 18.04 | PASS              | PASS         | PASS             |
+--------------+-------------------+--------------+------------------+
| FreeBSD 11.2 | PASS              | PASS         | SKIPPED          |
+--------------+-------------------+--------------+------------------+
| CentOS 8     | SKIPPED           | PASS         | PASS             |
+--------------+-------------------+--------------+------------------+

Ubuntu 18.04
	Kernel: 4.15.0-generic
	GCC: 7.4

FreeBSD 11.2
	Kernel: 11.2
	GCC: 8.3

CentOS 8
	Kernel: 4.18.0.el8_0
	GCC: 8.2

https://lab.dpdk.org/results/dashboard/patchsets/8800/

UNH-IOL DPDK Performance Test Lab

To manage your email subscriptions visit: 
https://lab.dpdk.org/results/dashboard/preferences/subscriptions/


More information about the test-report mailing list