[dpdk-test-report] |SUCCESS| [GIT MASTER] d92ddd8a147c77d2c6d9527f6b4301704f08f8f5
dpdklab at iol.unh.edu
dpdklab at iol.unh.edu
Tue Dec 3 20:29:05 CET 2019
_Compile Testing PASS_
Branch: dpdk-next-net
d92ddd8a147c77d2c6d9527f6b4301704f08f8f5 --> compile testing pass
Test environment and result as below:
+--------------+--------------+------------------+-------------------+
| Environment | dpdk_compile | dpdk_compile_ovs | dpdk_compile_spdk |
+==============+==============+==================+===================+
| Ubuntu 18.04 | PASS | PASS | PASS |
+--------------+--------------+------------------+-------------------+
| FreeBSD 11.2 | PASS | SKIPPED | PASS |
+--------------+--------------+------------------+-------------------+
| CentOS 8 | PASS | PASS | SKIPPED |
+--------------+--------------+------------------+-------------------+
Ubuntu 18.04
Kernel: 4.15.0-generic
GCC: 7.4
FreeBSD 11.2
Kernel: 11.2
GCC: 8.3
CentOS 8
Kernel: 4.18.0.el8_0
GCC: 8.2
https://lab.dpdk.org/results/dashboard/tarballs/7371/
UNH-IOL DPDK Performance Test Lab
To manage your email subscriptions visit:
https://lab.dpdk.org/results/dashboard/preferences/subscriptions/
More information about the test-report
mailing list