[dpdk-test-report] |SUCCESS| pw63553-63563 [PATCH] [v2,	01/11] examples/l3fwd: add framework for event device
    dpdklab at iol.unh.edu 
    dpdklab at iol.unh.edu
       
    Wed Dec  4 17:57:36 CET 2019
    
    
  
Test-Label: iol-compilation
Test-Status: SUCCESS
http://dpdk.org/patch/63553
_Compile Testing PASS_
Submitter: Pavan Nikhilesh Bhagavatula <pbhagavatula at marvell.com>
Date: Wednesday, December 04 2019 14:43:34 
DPDK git baseline: Repo:dpdk
  Branch: master
  CommitID:d51827a9815d1e1b97828013ea2ef4760cf61dc9
63553-63563 --> compile testing pass
Test environment and result as below:
+--------------+--------------+-------------------+------------------+
| Environment  | dpdk_compile | dpdk_compile_spdk | dpdk_compile_ovs |
+==============+==============+===================+==================+
| Ubuntu 18.04 | PASS         | PASS              | PASS             |
+--------------+--------------+-------------------+------------------+
| FreeBSD 11.2 | PASS         | PASS              | SKIPPED          |
+--------------+--------------+-------------------+------------------+
| CentOS 8     | PASS         | SKIPPED           | PASS             |
+--------------+--------------+-------------------+------------------+
Ubuntu 18.04
	Kernel: 4.15.0-generic
	GCC: 7.4
FreeBSD 11.2
	Kernel: 11.2
	GCC: 8.3
CentOS 8
	Kernel: 4.18.0.el8_0
	GCC: 8.2
https://lab.dpdk.org/results/dashboard/patchsets/8808/
UNH-IOL DPDK Performance Test Lab
To manage your email subscriptions visit: 
https://lab.dpdk.org/results/dashboard/preferences/subscriptions/
    
    
More information about the test-report
mailing list