[dpdk-test-report] |SUCCESS| pw63574 [PATCH] app/testpmd: fix device mcast list error handling
dpdklab at iol.unh.edu
dpdklab at iol.unh.edu
Wed Dec 4 18:27:01 CET 2019
Test-Label: iol-compilation
Test-Status: SUCCESS
http://dpdk.org/patch/63574
_Compile Testing PASS_
Submitter: Ciara Power <ciara.power at intel.com>
Date: Wednesday, December 04 2019 16:38:15
DPDK git baseline: Repo:dpdk
Branch: master
CommitID:d51827a9815d1e1b97828013ea2ef4760cf61dc9
63574 --> compile testing pass
Test environment and result as below:
+--------------+------------------+-------------------+--------------+
| Environment | dpdk_compile_ovs | dpdk_compile_spdk | dpdk_compile |
+==============+==================+===================+==============+
| Ubuntu 18.04 | PASS | PASS | PASS |
+--------------+------------------+-------------------+--------------+
| CentOS 8 | PASS | SKIPPED | PASS |
+--------------+------------------+-------------------+--------------+
| FreeBSD 11.2 | SKIPPED | PASS | PASS |
+--------------+------------------+-------------------+--------------+
Ubuntu 18.04
Kernel: 4.15.0-generic
GCC: 7.4
CentOS 8
Kernel: 4.18.0.el8_0
GCC: 8.2
FreeBSD 11.2
Kernel: 11.2
GCC: 8.3
https://lab.dpdk.org/results/dashboard/patchsets/8814/
UNH-IOL DPDK Performance Test Lab
To manage your email subscriptions visit:
https://lab.dpdk.org/results/dashboard/preferences/subscriptions/
More information about the test-report
mailing list