[dpdk-test-report] |SUCCESS| pw63609 [PATCH] net/i40e: fix flow control broken

dpdklab at iol.unh.edu dpdklab at iol.unh.edu
Fri Dec 6 09:29:48 CET 2019


Test-Label: iol-testing
Test-Status: SUCCESS
http://dpdk.org/patch/63609

_Testing PASS_

Submitter: Guinan Sun <guinanx.sun at intel.com>
Date: Friday, December 06 2019 15:41:18 
DPDK git baseline: Repo:dpdk
  Branch: master
  CommitID:aef1d0733179afb56916e95058a4f1398b81af04

63609 --> testing pass

Test environment and result as below:

+--------------+--------------+------------------+--------------------+----------------+-------------------+
| Environment  | dpdk_compile | dpdk_compile_ovs | dpdk_meson_compile | dpdk_unit_test | dpdk_compile_spdk |
+==============+==============+==================+====================+================+===================+
| FreeBSD 11.2 | PASS         | SKIPPED          | PASS               | SKIPPED        | PASS              |
+--------------+--------------+------------------+--------------------+----------------+-------------------+
| Ubuntu 18.04 | PASS         | PASS             | PASS               | PASS           | PASS              |
+--------------+--------------+------------------+--------------------+----------------+-------------------+
| CentOS 8     | PASS         | PASS             | PASS               | SKIPPED        | SKIPPED           |
+--------------+--------------+------------------+--------------------+----------------+-------------------+

FreeBSD 11.2
	Kernel: 11.2
	GCC: 8.3

Ubuntu 18.04
	Kernel: 4.15.0-generic
	GCC: 7.4

CentOS 8
	Kernel: 4.18.0.el8_0
	GCC: 8.2

https://lab.dpdk.org/results/dashboard/patchsets/8823/

UNH-IOL DPDK Performance Test Lab

To manage your email subscriptions visit: 
https://lab.dpdk.org/results/dashboard/preferences/subscriptions/


More information about the test-report mailing list