[dpdk-test-report] |SUCCESS| pw63663 [PATCH] [v2] net/pcap: truncate packet if it is too large
dpdklab at iol.unh.edu
dpdklab at iol.unh.edu
Mon Dec 9 03:29:51 CET 2019
Test-Label: iol-testing
Test-Status: SUCCESS
http://dpdk.org/patch/63663
_Testing PASS_
Submitter: Zhike Wang <wangzk320 at 163.com>
Date: Monday, December 09 2019 01:53:09
DPDK git baseline: Repo:dpdk
Branch: master
CommitID:aef1d0733179afb56916e95058a4f1398b81af04
63663 --> testing pass
Test environment and result as below:
+--------------+-------------------+--------------+------------------+----------------+--------------------+
| Environment | dpdk_compile_spdk | dpdk_compile | dpdk_compile_ovs | dpdk_unit_test | dpdk_meson_compile |
+==============+===================+==============+==================+================+====================+
| Ubuntu 18.04 | PASS | PASS | PASS | PASS | PASS |
+--------------+-------------------+--------------+------------------+----------------+--------------------+
| FreeBSD 11.2 | PASS | PASS | SKIPPED | SKIPPED | PASS |
+--------------+-------------------+--------------+------------------+----------------+--------------------+
| CentOS 8 | SKIPPED | PASS | PASS | SKIPPED | PASS |
+--------------+-------------------+--------------+------------------+----------------+--------------------+
Ubuntu 18.04
Kernel: 4.15.0-generic
GCC: 7.4
FreeBSD 11.2
Kernel: 11.2
GCC: 8.3
CentOS 8
Kernel: 4.18.0.el8_0
GCC: 8.2
https://lab.dpdk.org/results/dashboard/patchsets/8833/
UNH-IOL DPDK Performance Test Lab
To manage your email subscriptions visit:
https://lab.dpdk.org/results/dashboard/preferences/subscriptions/
More information about the test-report
mailing list