[dpdk-test-report] |SUCCESS| [GIT MASTER] aef1d0733179afb56916e95058a4f1398b81af04
dpdklab at iol.unh.edu
dpdklab at iol.unh.edu
Mon Dec 9 17:49:39 CET 2019
_Testing PASS_
Branch: dpdk-next-crypto
aef1d0733179afb56916e95058a4f1398b81af04 --> testing pass
Test environment and result as below:
+--------------+--------------------+--------------+-------------------+----------------+------------------+
| Environment | dpdk_meson_compile | dpdk_compile | dpdk_compile_spdk | dpdk_unit_test | dpdk_compile_ovs |
+==============+====================+==============+===================+================+==================+
| Ubuntu 18.04 | PASS | PASS | PASS | PASS | PASS |
+--------------+--------------------+--------------+-------------------+----------------+------------------+
| FreeBSD 11.2 | PASS | PASS | PASS | SKIPPED | SKIPPED |
+--------------+--------------------+--------------+-------------------+----------------+------------------+
| CentOS 8 | PASS | PASS | SKIPPED | SKIPPED | PASS |
+--------------+--------------------+--------------+-------------------+----------------+------------------+
Ubuntu 18.04
Kernel: 4.15.0-generic
GCC: 7.4
FreeBSD 11.2
Kernel: 11.2
GCC: 8.3
CentOS 8
Kernel: 4.18.0.el8_0
GCC: 8.2
https://lab.dpdk.org/results/dashboard/tarballs/7405/
UNH-IOL DPDK Performance Test Lab
To manage your email subscriptions visit:
https://lab.dpdk.org/results/dashboard/preferences/subscriptions/
More information about the test-report
mailing list