[dpdk-test-report] |SUCCESS| pw63782 [PATCH] app/test-fib: add	test-fib application
    dpdklab at iol.unh.edu 
    dpdklab at iol.unh.edu
       
    Wed Dec 11 20:32:04 CET 2019
    
    
  
Test-Label: iol-testing
Test-Status: SUCCESS
http://dpdk.org/patch/63782
_Testing PASS_
Submitter: Vladimir Medvedkin <vladimir.medvedkin at intel.com>
Date: Wednesday, December 11 2019 18:45:04 
DPDK git baseline: Repo:dpdk
  Branch: master
  CommitID:aef1d0733179afb56916e95058a4f1398b81af04
63782 --> testing pass
Test environment and result as below:
+--------------+------------------+-------------------+--------------+----------------+--------------------+
| Environment  | dpdk_compile_ovs | dpdk_compile_spdk | dpdk_compile | dpdk_unit_test | dpdk_meson_compile |
+==============+==================+===================+==============+================+====================+
| Ubuntu 18.04 | PASS             | PASS              | PASS         | PASS           | PASS               |
+--------------+------------------+-------------------+--------------+----------------+--------------------+
| CentOS 8     | PASS             | SKIPPED           | PASS         | SKIPPED        | PASS               |
+--------------+------------------+-------------------+--------------+----------------+--------------------+
| FreeBSD 11.2 | SKIPPED          | PASS              | PASS         | SKIPPED        | PASS               |
+--------------+------------------+-------------------+--------------+----------------+--------------------+
Ubuntu 18.04
	Kernel: 4.15.0-generic
	GCC: 7.4
CentOS 8
	Kernel: 4.18.0.el8_0
	GCC: 8.2
FreeBSD 11.2
	Kernel: 11.2
	GCC: 8.3
https://lab.dpdk.org/results/dashboard/patchsets/8884/
UNH-IOL DPDK Community Lab
To manage your email subscriptions visit: 
https://lab.dpdk.org/results/dashboard/preferences/subscriptions/
    
    
More information about the test-report
mailing list