[dpdk-test-report] |SUCCESS| pw63865 [PATCH] net/ice: correct VSI context
dpdklab at iol.unh.edu
dpdklab at iol.unh.edu
Sat Dec 14 12:16:27 CET 2019
Test-Label: iol-testing
Test-Status: SUCCESS
http://dpdk.org/patch/63865
_Testing PASS_
Submitter: Beilei Xing <beilei.xing at intel.com>
Date: Saturday, December 14 2019 06:14:17
DPDK git baseline: Repo:dpdk
Branch: master
CommitID:c3e89f69facbbfe131b6a6723665d48801ac943d
63865 --> testing pass
Test environment and result as below:
+--------------+--------------+------------------+-------------------+----------------+--------------------+
| Environment | dpdk_compile | dpdk_compile_ovs | dpdk_compile_spdk | dpdk_unit_test | dpdk_meson_compile |
+==============+==============+==================+===================+================+====================+
| FreeBSD 11.2 | PASS | SKIPPED | PASS | SKIPPED | PASS |
+--------------+--------------+------------------+-------------------+----------------+--------------------+
| Ubuntu 18.04 | PASS | PASS | PASS | PASS | PASS |
+--------------+--------------+------------------+-------------------+----------------+--------------------+
| CentOS 8 | PASS | PASS | SKIPPED | SKIPPED | PASS |
+--------------+--------------+------------------+-------------------+----------------+--------------------+
FreeBSD 11.2
Kernel: 11.2
GCC: 8.3
Ubuntu 18.04
Kernel: 4.15.0-generic
GCC: 7.4
CentOS 8
Kernel: 4.18.0.el8_0
GCC: 8.2
https://lab.dpdk.org/results/dashboard/patchsets/8910/
UNH-IOL DPDK Community Lab
To manage your email subscriptions visit:
https://lab.dpdk.org/results/dashboard/preferences/subscriptions/
More information about the test-report
mailing list