[dpdk-test-report] |SUCCESS| pw63968 [PATCH] event/dsw: immediately flush buffers on zero-sized enqueue
dpdklab at iol.unh.edu
dpdklab at iol.unh.edu
Tue Dec 17 13:03:23 CET 2019
Test-Label: iol-testing
Test-Status: SUCCESS
http://dpdk.org/patch/63968
_Testing PASS_
Submitter: Mattias Rönnblom <mattias.ronnblom at ericsson.com>
Date: Tuesday, December 17 2019 11:13:44
DPDK git baseline: Repo:dpdk
Branch: master
CommitID:c3e89f69facbbfe131b6a6723665d48801ac943d
63968 --> testing pass
Test environment and result as below:
+--------------+------------------+-------------------+--------------------+--------------+----------------+
| Environment | dpdk_compile_ovs | dpdk_compile_spdk | dpdk_meson_compile | dpdk_compile | dpdk_unit_test |
+==============+==================+===================+====================+==============+================+
| Ubuntu 18.04 | PASS | PASS | PASS | PASS | PASS |
+--------------+------------------+-------------------+--------------------+--------------+----------------+
| CentOS 8 | PASS | SKIPPED | PASS | PASS | SKIPPED |
+--------------+------------------+-------------------+--------------------+--------------+----------------+
| FreeBSD 11.2 | SKIPPED | PASS | PASS | PASS | SKIPPED |
+--------------+------------------+-------------------+--------------------+--------------+----------------+
Ubuntu 18.04
Kernel: 4.15.0-generic
GCC: 7.4
CentOS 8
Kernel: 4.18.0.el8_0
GCC: 8.2
FreeBSD 11.2
Kernel: 11.2
GCC: 8.3
https://lab.dpdk.org/results/dashboard/patchsets/8951/
UNH-IOL DPDK Community Lab
To manage your email subscriptions visit:
https://lab.dpdk.org/results/dashboard/preferences/subscriptions/
More information about the test-report
mailing list