[dpdk-test-report] |SUCCESS| pw63963 [PATCH] [v2,	08/10] librte_ethdev: add ESP and AH flow types to RSS
    dpdklab at iol.unh.edu 
    dpdklab at iol.unh.edu
       
    Tue Dec 17 14:00:30 CET 2019
    
    
  
Test-Label: iol-testing
Test-Status: SUCCESS
http://dpdk.org/patch/63963
_Testing PASS_
Submitter: Bernard Iremonger <bernard.iremonger at intel.com>
Date: Tuesday, December 17 2019 10:15:54 
DPDK git baseline: Repo:dpdk
  Branch: master
  CommitID:c3e89f69facbbfe131b6a6723665d48801ac943d
63963 --> testing pass
Test environment and result as below:
+--------------+--------------+-------------------+------------------+----------------+--------------------+
| Environment  | dpdk_compile | dpdk_compile_spdk | dpdk_compile_ovs | dpdk_unit_test | dpdk_meson_compile |
+==============+==============+===================+==================+================+====================+
| FreeBSD 11.2 | PASS         | PASS              | SKIPPED          | SKIPPED        | PASS               |
+--------------+--------------+-------------------+------------------+----------------+--------------------+
| CentOS 8     | PASS         | SKIPPED           | PASS             | SKIPPED        | PASS               |
+--------------+--------------+-------------------+------------------+----------------+--------------------+
| Ubuntu 18.04 | PASS         | PASS              | PASS             | PASS           | PASS               |
+--------------+--------------+-------------------+------------------+----------------+--------------------+
FreeBSD 11.2
	Kernel: 11.2
	GCC: 8.3
CentOS 8
	Kernel: 4.18.0.el8_0
	GCC: 8.2
Ubuntu 18.04
	Kernel: 4.15.0-generic
	GCC: 7.4
https://lab.dpdk.org/results/dashboard/patchsets/8948/
UNH-IOL DPDK Community Lab
To manage your email subscriptions visit: 
https://lab.dpdk.org/results/dashboard/preferences/subscriptions/
    
    
More information about the test-report
mailing list