[dpdk-test-report] |SUCCESS| pw63962 [PATCH] [v2, 07/10] net/i40e: display Flow Director packet
dpdklab at iol.unh.edu
dpdklab at iol.unh.edu
Tue Dec 17 14:30:50 CET 2019
Test-Label: iol-testing
Test-Status: SUCCESS
http://dpdk.org/patch/63962
_Testing PASS_
Submitter: Bernard Iremonger <bernard.iremonger at intel.com>
Date: Tuesday, December 17 2019 10:15:53
DPDK git baseline: Repo:dpdk
Branch: master
CommitID:c3e89f69facbbfe131b6a6723665d48801ac943d
63962 --> testing pass
Test environment and result as below:
+--------------+--------------+-------------------+----------------+------------------+--------------------+
| Environment | dpdk_compile | dpdk_compile_spdk | dpdk_unit_test | dpdk_compile_ovs | dpdk_meson_compile |
+==============+==============+===================+================+==================+====================+
| Ubuntu 18.04 | PASS | PASS | PASS | PASS | PASS |
+--------------+--------------+-------------------+----------------+------------------+--------------------+
| FreeBSD 11.2 | PASS | PASS | SKIPPED | SKIPPED | PASS |
+--------------+--------------+-------------------+----------------+------------------+--------------------+
| CentOS 8 | PASS | SKIPPED | SKIPPED | PASS | PASS |
+--------------+--------------+-------------------+----------------+------------------+--------------------+
Ubuntu 18.04
Kernel: 4.15.0-generic
GCC: 7.4
FreeBSD 11.2
Kernel: 11.2
GCC: 8.3
CentOS 8
Kernel: 4.18.0.el8_0
GCC: 8.2
https://lab.dpdk.org/results/dashboard/patchsets/8947/
UNH-IOL DPDK Community Lab
To manage your email subscriptions visit:
https://lab.dpdk.org/results/dashboard/preferences/subscriptions/
More information about the test-report
mailing list