[dpdk-test-report] |SUCCESS| pw64042-64046 [PATCH] [v3, 1/5] net/fm10k: cleanup Tx buffers
dpdklab at iol.unh.edu
dpdklab at iol.unh.edu
Fri Dec 20 05:01:22 CET 2019
Test-Label: iol-testing
Test-Status: SUCCESS
http://dpdk.org/patch/64042
_Testing PASS_
Submitter: Chenxu Di <chenxux.di at intel.com>
Date: Friday, December 20 2019 03:15:31
DPDK git baseline: Repo:dpdk
Branch: master
CommitID:f26c2b39b271cdcd857ba518c5e48c78cb1c30af
64042-64046 --> testing pass
Test environment and result as below:
+--------------+------------------+-------------------+--------------------+----------------+--------------+
| Environment | dpdk_compile_ovs | dpdk_compile_spdk | dpdk_meson_compile | dpdk_unit_test | dpdk_compile |
+==============+==================+===================+====================+================+==============+
| Ubuntu 18.04 | PASS | PASS | PASS | PASS | PASS |
+--------------+------------------+-------------------+--------------------+----------------+--------------+
| CentOS 8 | PASS | SKIPPED | PASS | SKIPPED | PASS |
+--------------+------------------+-------------------+--------------------+----------------+--------------+
| FreeBSD 11.2 | SKIPPED | PASS | PASS | SKIPPED | PASS |
+--------------+------------------+-------------------+--------------------+----------------+--------------+
Ubuntu 18.04
Kernel: 4.15.0-generic
GCC: 7.4
CentOS 8
Kernel: 4.18.0.el8_0
GCC: 8.2
FreeBSD 11.2
Kernel: 11.2
GCC: 8.3
https://lab.dpdk.org/results/dashboard/patchsets/8980/
UNH-IOL DPDK Community Lab
To manage your email subscriptions visit:
https://lab.dpdk.org/results/dashboard/preferences/subscriptions/
More information about the test-report
mailing list