[dpdk-test-report] |SUCCESS| pw64072-64073 [PATCH] [v2, 1/2] ci: add travis ci support for aarch64
dpdklab at iol.unh.edu
dpdklab at iol.unh.edu
Fri Dec 20 11:36:30 CET 2019
Test-Label: iol-testing
Test-Status: SUCCESS
http://dpdk.org/patch/64072
_Testing PASS_
Submitter: Ruifeng Wang <ruifeng.wang at arm.com>
Date: Friday, December 20 2019 09:37:08
DPDK git baseline: Repo:dpdk
Branch: master
CommitID:f26c2b39b271cdcd857ba518c5e48c78cb1c30af
64072-64073 --> testing pass
Test environment and result as below:
+--------------+------------------+--------------+--------------------+-------------------+----------------+
| Environment | dpdk_compile_ovs | dpdk_compile | dpdk_meson_compile | dpdk_compile_spdk | dpdk_unit_test |
+==============+==================+==============+====================+===================+================+
| Ubuntu 18.04 | PASS | PASS | PASS | PASS | PASS |
+--------------+------------------+--------------+--------------------+-------------------+----------------+
| CentOS 8 | PASS | PASS | PASS | SKIPPED | SKIPPED |
+--------------+------------------+--------------+--------------------+-------------------+----------------+
| FreeBSD 11.2 | SKIPPED | PASS | PASS | PASS | SKIPPED |
+--------------+------------------+--------------+--------------------+-------------------+----------------+
Ubuntu 18.04
Kernel: 4.15.0-generic
GCC: 7.4
CentOS 8
Kernel: 4.18.0.el8_0
GCC: 8.2
FreeBSD 11.2
Kernel: 11.2
GCC: 8.3
https://lab.dpdk.org/results/dashboard/patchsets/8987/
UNH-IOL DPDK Community Lab
To manage your email subscriptions visit:
https://lab.dpdk.org/results/dashboard/preferences/subscriptions/
More information about the test-report
mailing list