[dpdk-test-report] |SUCCESS| pw64074 [PATCH] net/mlx5: fix ConnectX-4LX Tx burst routines set
dpdklab at iol.unh.edu
dpdklab at iol.unh.edu
Fri Dec 20 12:30:39 CET 2019
Test-Label: iol-testing
Test-Status: SUCCESS
http://dpdk.org/patch/64074
_Testing PASS_
Submitter: Viacheslav Ovsiienko <viacheslavo at mellanox.com>
Date: Friday, December 20 2019 10:48:25
DPDK git baseline: Repo:dpdk
Branch: master
CommitID:f26c2b39b271cdcd857ba518c5e48c78cb1c30af
64074 --> testing pass
Test environment and result as below:
+--------------+--------------+-------------------+--------------------+----------------+------------------+
| Environment | dpdk_compile | dpdk_compile_spdk | dpdk_meson_compile | dpdk_unit_test | dpdk_compile_ovs |
+==============+==============+===================+====================+================+==================+
| Ubuntu 18.04 | PASS | PASS | PASS | PASS | PASS |
+--------------+--------------+-------------------+--------------------+----------------+------------------+
| FreeBSD 11.2 | PASS | PASS | PASS | SKIPPED | SKIPPED |
+--------------+--------------+-------------------+--------------------+----------------+------------------+
| CentOS 8 | PASS | SKIPPED | PASS | SKIPPED | PASS |
+--------------+--------------+-------------------+--------------------+----------------+------------------+
Ubuntu 18.04
Kernel: 4.15.0-generic
GCC: 7.4
FreeBSD 11.2
Kernel: 11.2
GCC: 8.3
CentOS 8
Kernel: 4.18.0.el8_0
GCC: 8.2
https://lab.dpdk.org/results/dashboard/patchsets/8988/
UNH-IOL DPDK Community Lab
To manage your email subscriptions visit:
https://lab.dpdk.org/results/dashboard/preferences/subscriptions/
More information about the test-report
mailing list