[dpdk-test-report] |SUCCESS| [GIT MASTER] 2e088e6f94b773233c06440763c1be43d0d705b3
dpdklab at iol.unh.edu
dpdklab at iol.unh.edu
Sat Dec 21 23:35:43 CET 2019
_Testing PASS_
Branch: dpdk
2e088e6f94b773233c06440763c1be43d0d705b3 --> testing pass
Test environment and result as below:
+--------------+--------------+--------------------+-------------------+------------------+----------------+
| Environment | dpdk_compile | dpdk_meson_compile | dpdk_compile_spdk | dpdk_compile_ovs | dpdk_unit_test |
+==============+==============+====================+===================+==================+================+
| Ubuntu 18.04 | PASS | PASS | PASS | PASS | PASS |
+--------------+--------------+--------------------+-------------------+------------------+----------------+
| FreeBSD 11.2 | PASS | PASS | PASS | SKIPPED | SKIPPED |
+--------------+--------------+--------------------+-------------------+------------------+----------------+
| Fedora 31 | PASS | PASS | SKIPPED | PASS | SKIPPED |
+--------------+--------------+--------------------+-------------------+------------------+----------------+
| CentOS 8 | PASS | PASS | SKIPPED | PASS | SKIPPED |
+--------------+--------------+--------------------+-------------------+------------------+----------------+
Ubuntu 18.04
Kernel: 4.15.0-generic
GCC: 7.4
FreeBSD 11.2
Kernel: 11.2
GCC: 8.3
Fedora 31
Kernel: 5.3.16
GCC: 9.2.1
CentOS 8
Kernel: 4.18.0.el8_0
GCC: 8.2
https://lab.dpdk.org/results/dashboard/tarballs/7561/
UNH-IOL DPDK Community Lab
To manage your email subscriptions visit:
https://lab.dpdk.org/results/dashboard/preferences/subscriptions/
More information about the test-report
mailing list