[dpdk-test-report] |SUCCESS| pw64160 [PATCH] net/ipn3ke: fix line side statistics register read
dpdklab at iol.unh.edu
dpdklab at iol.unh.edu
Tue Dec 31 08:53:18 CET 2019
Test-Label: iol-testing
Test-Status: SUCCESS
http://dpdk.org/patch/64160
_Testing PASS_
Submitter: Andy Pei <andy.pei at intel.com>
Date: Tuesday, December 31 2019 06:53:47
DPDK git baseline: Repo:dpdk
Branch: master
CommitID:2e088e6f94b773233c06440763c1be43d0d705b3
64160 --> testing pass
Test environment and result as below:
+--------------+------------------+--------------+--------------------+-------------------+----------------+
| Environment | dpdk_compile_ovs | dpdk_compile | dpdk_meson_compile | dpdk_compile_spdk | dpdk_unit_test |
+==============+==================+==============+====================+===================+================+
| Ubuntu 18.04 | PASS | PASS | PASS | PASS | PASS |
+--------------+------------------+--------------+--------------------+-------------------+----------------+
| Fedora 31 | PASS | PASS | PASS | SKIPPED | SKIPPED |
+--------------+------------------+--------------+--------------------+-------------------+----------------+
| CentOS 8 | PASS | PASS | PASS | SKIPPED | SKIPPED |
+--------------+------------------+--------------+--------------------+-------------------+----------------+
| FreeBSD 11.2 | SKIPPED | PASS | PASS | PASS | SKIPPED |
+--------------+------------------+--------------+--------------------+-------------------+----------------+
Ubuntu 18.04
Kernel: 4.15.0-generic
GCC: 7.4
Fedora 31
Kernel: 5.3.16
GCC: 9.2.1
CentOS 8
Kernel: 4.18.0.el8_0
GCC: 8.2
FreeBSD 11.2
Kernel: 11.2
GCC: 8.3
https://lab.dpdk.org/results/dashboard/patchsets/9038/
UNH-IOL DPDK Community Lab
To manage your email subscriptions visit:
https://lab.dpdk.org/results/dashboard/preferences/subscriptions/
More information about the test-report
mailing list