[dpdk-test-report] |SUCCESS| pw64159 [PATCH] [v1] crypto/ccp: aes-gcm driver bug fix
dpdklab at iol.unh.edu
dpdklab at iol.unh.edu
Tue Dec 31 09:17:26 CET 2019
Test-Label: iol-testing
Test-Status: SUCCESS
http://dpdk.org/patch/64159
_Testing PASS_
Submitter: Selwin Sebastian <selwin.sebastian at amd.com>
Date: Monday, December 30 2019 19:07:40
DPDK git baseline: Repo:dpdk
Branch: master
CommitID:2e088e6f94b773233c06440763c1be43d0d705b3
64159 --> testing pass
Test environment and result as below:
+--------------+--------------+------------------+--------------------+-------------------+----------------+
| Environment | dpdk_compile | dpdk_compile_ovs | dpdk_meson_compile | dpdk_compile_spdk | dpdk_unit_test |
+==============+==============+==================+====================+===================+================+
| Ubuntu 18.04 | PASS | PASS | PASS | PASS | PASS |
+--------------+--------------+------------------+--------------------+-------------------+----------------+
| Fedora 31 | PASS | PASS | PASS | SKIPPED | SKIPPED |
+--------------+--------------+------------------+--------------------+-------------------+----------------+
| CentOS 8 | PASS | PASS | PASS | SKIPPED | SKIPPED |
+--------------+--------------+------------------+--------------------+-------------------+----------------+
| FreeBSD 11.2 | PASS | SKIPPED | PASS | PASS | SKIPPED |
+--------------+--------------+------------------+--------------------+-------------------+----------------+
Ubuntu 18.04
Kernel: 4.15.0-generic
GCC: 7.4
Fedora 31
Kernel: 5.3.16
GCC: 9.2.1
CentOS 8
Kernel: 4.18.0.el8_0
GCC: 8.2
FreeBSD 11.2
Kernel: 11.2
GCC: 8.3
https://lab.dpdk.org/results/dashboard/patchsets/9037/
UNH-IOL DPDK Community Lab
To manage your email subscriptions visit:
https://lab.dpdk.org/results/dashboard/preferences/subscriptions/
More information about the test-report
mailing list