[dpdk-test-report] |SUCCESS| pw62295 [PATCH] net/mlx5: fix set VLAN id/pcp in new VLAN header
dpdklab at iol.unh.edu
dpdklab at iol.unh.edu
Fri Nov 1 02:58:01 CET 2019
Test-Label: iol-compilation
Test-Status: SUCCESS
http://dpdk.org/patch/62295
_Compile Testing PASS_
Submitter: Xiaoyu Min <jackmin at mellanox.com>
Date: Friday, November 01 2019 01:32:32
DPDK git baseline: Repo:dpdk-next-net-mlx
Branch: master
CommitID:de8ac03ab2ce41bc7d448984d0a7d00ba911a930
62295 --> compile testing pass
Test environment and result as below:
+--------------+-------------------+--------------+------------------+
| Environment | dpdk_compile_spdk | dpdk_compile | dpdk_compile_ovs |
+==============+===================+==============+==================+
| Ubuntu 18.04 | PASS | PASS | PASS |
+--------------+-------------------+--------------+------------------+
| FreeBSD 11.2 | PASS | PASS | |
+--------------+-------------------+--------------+------------------+
| CentOS 8 | | PASS | PASS |
+--------------+-------------------+--------------+------------------+
Ubuntu 18.04
Kernel: 4.15.0-generic
GCC: 7.4
FreeBSD 11.2
Kernel: 11.2
GCC: 8.3
CentOS 8
Kernel: 4.18.0.el8_0
GCC: 8.2
https://lab.dpdk.org/results/dashboard/patchsets/8273/
UNH-IOL DPDK Performance Test Lab
To manage your email subscriptions visit:
https://lab.dpdk.org/results/dashboard/preferences/subscriptions/
More information about the test-report
mailing list