[dpdk-test-report] |SUCCESS| pw62301 [PATCH] [v2] net/ixgbe: fix port close in FreeBSD OS
dpdklab at iol.unh.edu
dpdklab at iol.unh.edu
Fri Nov 1 11:41:49 CET 2019
Test-Label: iol-compilation
Test-Status: SUCCESS
http://dpdk.org/patch/62301
_Compile Testing PASS_
Submitter: Di ChenxuX <chenxux.di at intel.com>
Date: Friday, November 01 2019 02:26:44
DPDK git baseline: Repo:dpdk
Branch: master
CommitID:d22cd795ec9db722505e48b5e9bc5afddbeb400e
62301 --> compile testing pass
Test environment and result as below:
+--------------+-------------------+------------------+--------------+
| Environment | dpdk_compile_spdk | dpdk_compile_ovs | dpdk_compile |
+==============+===================+==================+==============+
| Ubuntu 18.04 | PASS | PASS | PASS |
+--------------+-------------------+------------------+--------------+
| FreeBSD 11.2 | PASS | | PASS |
+--------------+-------------------+------------------+--------------+
| CentOS 8 | | PASS | PASS |
+--------------+-------------------+------------------+--------------+
Ubuntu 18.04
Kernel: 4.15.0-generic
GCC: 7.4
FreeBSD 11.2
Kernel: 11.2
GCC: 8.3
CentOS 8
Kernel: 4.18.0.el8_0
GCC: 8.2
https://lab.dpdk.org/results/dashboard/patchsets/8277/
UNH-IOL DPDK Performance Test Lab
To manage your email subscriptions visit:
https://lab.dpdk.org/results/dashboard/preferences/subscriptions/
More information about the test-report
mailing list