[dpdk-test-report] |SUCCESS| pw62328 [PATCH] [v5] net/ice: optimize protocol extraction by dynamic mbuf API
dpdklab at iol.unh.edu
dpdklab at iol.unh.edu
Fri Nov 1 17:56:58 CET 2019
Test-Label: iol-compilation
Test-Status: SUCCESS
http://dpdk.org/patch/62328
_Compile Testing PASS_
Submitter: Haiyue Wang <haiyue.wang at intel.com>
Date: Friday, November 01 2019 16:19:02
DPDK git baseline: Repo:dpdk
Branch: master
CommitID:d22cd795ec9db722505e48b5e9bc5afddbeb400e
62328 --> compile testing pass
Test environment and result as below:
+--------------+--------------+-------------------+------------------+
| Environment | dpdk_compile | dpdk_compile_spdk | dpdk_compile_ovs |
+==============+==============+===================+==================+
| Ubuntu 18.04 | PASS | PASS | PASS |
+--------------+--------------+-------------------+------------------+
| FreeBSD 11.2 | PASS | PASS | |
+--------------+--------------+-------------------+------------------+
| CentOS 8 | PASS | | PASS |
+--------------+--------------+-------------------+------------------+
Ubuntu 18.04
Kernel: 4.15.0-generic
GCC: 7.4
FreeBSD 11.2
Kernel: 11.2
GCC: 8.3
CentOS 8
Kernel: 4.18.0.el8_0
GCC: 8.2
https://lab.dpdk.org/results/dashboard/patchsets/8286/
UNH-IOL DPDK Performance Test Lab
To manage your email subscriptions visit:
https://lab.dpdk.org/results/dashboard/preferences/subscriptions/
More information about the test-report
mailing list