[dpdk-test-report] |SUCCESS| pw62456-62457 [PATCH] [v10, 1/2] ethdev: extend flow metadata
dpdklab at iol.unh.edu
dpdklab at iol.unh.edu
Tue Nov 5 15:57:31 CET 2019
Test-Label: iol-compilation
Test-Status: SUCCESS
http://dpdk.org/patch/62456
_Compile Testing PASS_
Submitter: Viacheslav Ovsiienko <viacheslavo at mellanox.com>
Date: Tuesday, November 05 2019 14:19:30
DPDK git baseline: Repo:dpdk-next-net
Branch: master
CommitID:c408ddbec1d14cbec5da6ea048134b4244daba9f
62456-62457 --> compile testing pass
Test environment and result as below:
+--------------+------------------+--------------+-------------------+
| Environment | dpdk_compile_ovs | dpdk_compile | dpdk_compile_spdk |
+==============+==================+==============+===================+
| Ubuntu 18.04 | PASS | PASS | PASS |
+--------------+------------------+--------------+-------------------+
| CentOS 8 | PASS | PASS | |
+--------------+------------------+--------------+-------------------+
| FreeBSD 11.2 | | PASS | |
+--------------+------------------+--------------+-------------------+
Ubuntu 18.04
Kernel: 4.15.0-generic
GCC: 7.4
CentOS 8
Kernel: 4.18.0.el8_0
GCC: 8.2
FreeBSD 11.2
Kernel: 11.2
GCC: 8.3
https://lab.dpdk.org/results/dashboard/patchsets/8338/
UNH-IOL DPDK Performance Test Lab
To manage your email subscriptions visit:
https://lab.dpdk.org/results/dashboard/preferences/subscriptions/
More information about the test-report
mailing list