[dpdk-test-report] |SUCCESS| pw62487 [PATCH] Working Towards Making DPDK Compile with Additional Warning Flags

dpdklab at iol.unh.edu dpdklab at iol.unh.edu
Tue Nov 5 19:42:11 CET 2019


Test-Label: iol-compilation
Test-Status: SUCCESS
http://dpdk.org/patch/62487

_Compile Testing PASS_

Submitter: None <devyn.johnson at banduracyber.com>
Date: Tuesday, November 05 2019 18:16:40 
DPDK git baseline: Repo:dpdk
  Branch: master
  CommitID:38383890b21f995c3dafa177298d744e1db0be84

62487 --> compile testing pass

Test environment and result as below:

+--------------+------------------+--------------+-------------------+
| Environment  | dpdk_compile_ovs | dpdk_compile | dpdk_compile_spdk |
+==============+==================+==============+===================+
| Ubuntu 18.04 | PASS             | PASS         | PASS              |
+--------------+------------------+--------------+-------------------+
| CentOS 8     | PASS             | PASS         |                   |
+--------------+------------------+--------------+-------------------+
| FreeBSD 11.2 |                  | PASS         |                   |
+--------------+------------------+--------------+-------------------+

Ubuntu 18.04
	Kernel: 4.15.0-generic
	GCC: 7.4

CentOS 8
	Kernel: 4.18.0.el8_0
	GCC: 8.2

FreeBSD 11.2
	Kernel: 11.2
	GCC: 8.3

https://lab.dpdk.org/results/dashboard/patchsets/8348/

UNH-IOL DPDK Performance Test Lab

To manage your email subscriptions visit: 
https://lab.dpdk.org/results/dashboard/preferences/subscriptions/


More information about the test-report mailing list