[dpdk-test-report] |SUCCESS| pw62529 [PATCH] drivers: copyrights update for nxp files
dpdklab at iol.unh.edu
dpdklab at iol.unh.edu
Wed Nov 6 12:42:47 CET 2019
Test-Label: iol-compilation
Test-Status: SUCCESS
http://dpdk.org/patch/62529
_Compile Testing PASS_
Submitter: Sachin Saxena <sachin.saxena at nxp.com>
Date: Wednesday, November 06 2019 10:43:46
DPDK git baseline: Repo:dpdk
Branch: master
CommitID:38383890b21f995c3dafa177298d744e1db0be84
62529 --> compile testing pass
Test environment and result as below:
+--------------+--------------+------------------+-------------------+
| Environment | dpdk_compile | dpdk_compile_ovs | dpdk_compile_spdk |
+==============+==============+==================+===================+
| FreeBSD 11.2 | PASS | | |
+--------------+--------------+------------------+-------------------+
| Ubuntu 18.04 | PASS | PASS | PASS |
+--------------+--------------+------------------+-------------------+
| CentOS 8 | PASS | PASS | |
+--------------+--------------+------------------+-------------------+
FreeBSD 11.2
Kernel: 11.2
GCC: 8.3
Ubuntu 18.04
Kernel: 4.15.0-generic
GCC: 7.4
CentOS 8
Kernel: 4.18.0.el8_0
GCC: 8.2
https://lab.dpdk.org/results/dashboard/patchsets/8372/
UNH-IOL DPDK Performance Test Lab
To manage your email subscriptions visit:
https://lab.dpdk.org/results/dashboard/preferences/subscriptions/
More information about the test-report
mailing list