[dpdk-test-report] |SUCCESS| pw62533-62534 [PATCH] [v2, 1/3] ethdev: support API to set max LRO packet size

dpdklab at iol.unh.edu dpdklab at iol.unh.edu
Wed Nov 6 12:57:08 CET 2019


Test-Label: iol-compilation
Test-Status: SUCCESS
http://dpdk.org/patch/62533

_Compile Testing PASS_

Submitter: Dekel Peled <dekelp at mellanox.com>
Date: Wednesday, November 06 2019 11:34:36 
DPDK git baseline: Repo:dpdk
  Branch: master
  CommitID:38383890b21f995c3dafa177298d744e1db0be84

62533-62534 --> compile testing pass

Test environment and result as below:

+--------------+--------------+------------------+-------------------+
| Environment  | dpdk_compile | dpdk_compile_ovs | dpdk_compile_spdk |
+==============+==============+==================+===================+
| FreeBSD 11.2 | PASS         |                  |                   |
+--------------+--------------+------------------+-------------------+
| Ubuntu 18.04 | PASS         | PASS             | PASS              |
+--------------+--------------+------------------+-------------------+
| CentOS 8     | PASS         | PASS             |                   |
+--------------+--------------+------------------+-------------------+

FreeBSD 11.2
	Kernel: 11.2
	GCC: 8.3

Ubuntu 18.04
	Kernel: 4.15.0-generic
	GCC: 7.4

CentOS 8
	Kernel: 4.18.0.el8_0
	GCC: 8.2

https://lab.dpdk.org/results/dashboard/patchsets/8375/

UNH-IOL DPDK Performance Test Lab

To manage your email subscriptions visit: 
https://lab.dpdk.org/results/dashboard/preferences/subscriptions/


More information about the test-report mailing list