[dpdk-test-report] |SUCCESS| pw62769-62771 [PATCH] [v9, 1/4] doc: separate versioning.rst into version and policy
dpdklab at iol.unh.edu
dpdklab at iol.unh.edu
Fri Nov 8 14:26:31 CET 2019
Test-Label: iol-compilation
Test-Status: SUCCESS
http://dpdk.org/patch/62769
_Compile Testing PASS_
Submitter: Ray Kinsella <mdr at ashroe.eu>
Date: Friday, November 08 2019 12:46:22
DPDK git baseline: Repo:dpdk
Branch: master
CommitID:9a643edb2b74c5993465089aa23178cd9ad612cc
62769-62771 --> compile testing pass
Test environment and result as below:
+--------------+------------------+-------------------+--------------+
| Environment | dpdk_compile_ovs | dpdk_compile_spdk | dpdk_compile |
+==============+==================+===================+==============+
| Ubuntu 18.04 | PASS | PASS | PASS |
+--------------+------------------+-------------------+--------------+
| CentOS 8 | PASS | | PASS |
+--------------+------------------+-------------------+--------------+
| FreeBSD 11.2 | | PASS | PASS |
+--------------+------------------+-------------------+--------------+
Ubuntu 18.04
Kernel: 4.15.0-generic
GCC: 7.4
CentOS 8
Kernel: 4.18.0.el8_0
GCC: 8.2
FreeBSD 11.2
Kernel: 11.2
GCC: 8.3
https://lab.dpdk.org/results/dashboard/patchsets/8440/
UNH-IOL DPDK Performance Test Lab
To manage your email subscriptions visit:
https://lab.dpdk.org/results/dashboard/preferences/subscriptions/
More information about the test-report
mailing list