[dpdk-test-report] |SUCCESS| pw62855 [PATCH] [v3] bus/pci: resolve multiple NICs address conflicts
dpdklab at iol.unh.edu
dpdklab at iol.unh.edu
Tue Nov 12 03:57:11 CET 2019
Test-Label: iol-compilation
Test-Status: SUCCESS
http://dpdk.org/patch/62855
_Compile Testing PASS_
Submitter: Wangyu (Eric) <seven.wangyu at huawei.com>
Date: Tuesday, November 12 2019 02:22:36
DPDK git baseline: Repo:dpdk
Branch: master
CommitID:1c69df45f8c6b727c3b6a78e13f81225c090dde2
62855 --> compile testing pass
Test environment and result as below:
+--------------+--------------+-------------------+------------------+
| Environment | dpdk_compile | dpdk_compile_spdk | dpdk_compile_ovs |
+==============+==============+===================+==================+
| Ubuntu 18.04 | PASS | PASS | PASS |
+--------------+--------------+-------------------+------------------+
| FreeBSD 11.2 | PASS | PASS | |
+--------------+--------------+-------------------+------------------+
| CentOS 8 | PASS | | PASS |
+--------------+--------------+-------------------+------------------+
Ubuntu 18.04
Kernel: 4.15.0-generic
GCC: 7.4
FreeBSD 11.2
Kernel: 11.2
GCC: 8.3
CentOS 8
Kernel: 4.18.0.el8_0
GCC: 8.2
https://lab.dpdk.org/results/dashboard/patchsets/8481/
UNH-IOL DPDK Performance Test Lab
To manage your email subscriptions visit:
https://lab.dpdk.org/results/dashboard/preferences/subscriptions/
More information about the test-report
mailing list