[dpdk-test-report] |SUCCESS| pw62912 [PATCH] [v2] net/mlx5: revert default rules amount optimization
dpdklab at iol.unh.edu
dpdklab at iol.unh.edu
Tue Nov 12 23:43:09 CET 2019
Test-Label: iol-compilation
Test-Status: SUCCESS
http://dpdk.org/patch/62912
_Compile Testing PASS_
Submitter: Matan Azrad <matan at mellanox.com>
Date: Tuesday, November 12 2019 22:00:10
DPDK git baseline: Repo:dpdk-next-net-mlx
Branch: master
CommitID:5e8c310d76a47fa9bdf14836b181df3877076821
62912 --> compile testing pass
Test environment and result as below:
+--------------+------------------+-------------------+--------------+
| Environment | dpdk_compile_ovs | dpdk_compile_spdk | dpdk_compile |
+==============+==================+===================+==============+
| Ubuntu 18.04 | PASS | PASS | PASS |
+--------------+------------------+-------------------+--------------+
| CentOS 8 | PASS | | PASS |
+--------------+------------------+-------------------+--------------+
| FreeBSD 11.2 | | PASS | PASS |
+--------------+------------------+-------------------+--------------+
Ubuntu 18.04
Kernel: 4.15.0-generic
GCC: 7.4
CentOS 8
Kernel: 4.18.0.el8_0
GCC: 8.2
FreeBSD 11.2
Kernel: 11.2
GCC: 8.3
https://lab.dpdk.org/results/dashboard/patchsets/8512/
UNH-IOL DPDK Performance Test Lab
To manage your email subscriptions visit:
https://lab.dpdk.org/results/dashboard/preferences/subscriptions/
More information about the test-report
mailing list