[dpdk-test-report] |SUCCESS| pw62958 [PATCH] MAINTAINERS: resign from NFP PMD maintainer
dpdklab at iol.unh.edu
dpdklab at iol.unh.edu
Wed Nov 13 15:12:43 CET 2019
Test-Label: iol-compilation
Test-Status: SUCCESS
http://dpdk.org/patch/62958
_Compile Testing PASS_
Submitter: Alejandro Lucero <alejandro.lucero at netronome.com>
Date: Wednesday, November 13 2019 12:47:17
DPDK git baseline: Repo:dpdk
Branch: master
CommitID:08a234788ee548796fd6b394c7e897a2bf1df1b3
62958 --> compile testing pass
Test environment and result as below:
+--------------+------------------+-------------------+--------------+
| Environment | dpdk_compile_ovs | dpdk_compile_spdk | dpdk_compile |
+==============+==================+===================+==============+
| Ubuntu 18.04 | PASS | PASS | PASS |
+--------------+------------------+-------------------+--------------+
| CentOS 8 | PASS | | PASS |
+--------------+------------------+-------------------+--------------+
| FreeBSD 11.2 | | PASS | PASS |
+--------------+------------------+-------------------+--------------+
Ubuntu 18.04
Kernel: 4.15.0-generic
GCC: 7.4
CentOS 8
Kernel: 4.18.0.el8_0
GCC: 8.2
FreeBSD 11.2
Kernel: 11.2
GCC: 8.3
https://lab.dpdk.org/results/dashboard/patchsets/8529/
UNH-IOL DPDK Performance Test Lab
To manage your email subscriptions visit:
https://lab.dpdk.org/results/dashboard/preferences/subscriptions/
More information about the test-report
mailing list