[dpdk-test-report] |SUCCESS| pw63114 [PATCH] build: remove unneeded meson option
dpdklab at iol.unh.edu
dpdklab at iol.unh.edu
Tue Nov 19 14:58:17 CET 2019
Test-Label: iol-compilation
Test-Status: SUCCESS
http://dpdk.org/patch/63114
_Compile Testing PASS_
Submitter: David Marchand <david.marchand at redhat.com>
Date: Tuesday, November 19 2019 12:59:23
DPDK git baseline: Repo:dpdk
Branch: master
CommitID:a0dede62a5372da0a9b67859962e64108a10b916
63114 --> compile testing pass
Test environment and result as below:
+--------------+--------------+-------------------+------------------+
| Environment | dpdk_compile | dpdk_compile_spdk | dpdk_compile_ovs |
+==============+==============+===================+==================+
| Ubuntu 18.04 | PASS | PASS | PASS |
+--------------+--------------+-------------------+------------------+
| FreeBSD 11.2 | PASS | PASS | |
+--------------+--------------+-------------------+------------------+
| CentOS 8 | PASS | | PASS |
+--------------+--------------+-------------------+------------------+
Ubuntu 18.04
Kernel: 4.15.0-generic
GCC: 7.4
FreeBSD 11.2
Kernel: 11.2
GCC: 8.3
CentOS 8
Kernel: 4.18.0.el8_0
GCC: 8.2
https://lab.dpdk.org/results/dashboard/patchsets/8607/
UNH-IOL DPDK Performance Test Lab
To manage your email subscriptions visit:
https://lab.dpdk.org/results/dashboard/preferences/subscriptions/
More information about the test-report
mailing list