[dpdk-test-report] |SUCCESS| pw63180 [PATCH] testpmd: fix memory leak in iterator
dpdklab at iol.unh.edu
dpdklab at iol.unh.edu
Thu Nov 21 01:01:01 CET 2019
Test-Label: iol-compilation
Test-Status: SUCCESS
http://dpdk.org/patch/63180
_Compile Testing PASS_
Submitter: Stephen Hemminger <stephen at networkplumber.org>
Date: Wednesday, November 20 2019 23:26:28
DPDK git baseline: Repo:dpdk
Branch: master
CommitID:43d0e304980a1527bcac92dc679057b189e2545a
63180 --> compile testing pass
Test environment and result as below:
+--------------+----------------+---------------+---------------+--------------+
| Environment | dpdk_compile_o | dpdk_compile_ | dpdk_meson_co | dpdk_compile |
| | vs | spdk | mpile | |
+==============+================+===============+===============+==============+
| Ubuntu 18.04 | PASS | PASS | PASS | PASS |
+--------------+----------------+---------------+---------------+--------------+
| CentOS 8 | PASS | SKIPPED | PASS | PASS |
+--------------+----------------+---------------+---------------+--------------+
| FreeBSD 11.2 | SKIPPED | PASS | PASS | PASS |
+--------------+----------------+---------------+---------------+--------------+
Ubuntu 18.04
Kernel: 4.15.0-generic
GCC: 7.4
CentOS 8
Kernel: 4.18.0.el8_0
GCC: 8.2
FreeBSD 11.2
Kernel: 11.2
GCC: 8.3
https://lab.dpdk.org/results/dashboard/patchsets/8636/
UNH-IOL DPDK Performance Test Lab
To manage your email subscriptions visit:
https://lab.dpdk.org/results/dashboard/preferences/subscriptions/
More information about the test-report
mailing list