[dpdk-test-report] |SUCCESS| pw63204 [PATCH] malloc: fix memory element size in case of padding
dpdklab at iol.unh.edu
dpdklab at iol.unh.edu
Thu Nov 21 16:00:46 CET 2019
Test-Label: iol-compilation
Test-Status: SUCCESS
http://dpdk.org/patch/63204
_Compile Testing PASS_
Submitter: Xueming Li <xuemingl at mellanox.com>
Date: Thursday, November 21 2019 14:25:02
DPDK git baseline: Repo:dpdk
Branch: master
CommitID:e5d0ba08703099c12e4bb2eac650cbb047df1a13
63204 --> compile testing pass
Test environment and result as below:
+--------------+----------------+---------------+---------------+--------------+
| Environment | dpdk_compile_s | dpdk_compile_ | dpdk_meson_co | dpdk_compile |
| | pdk | ovs | mpile | |
+==============+================+===============+===============+==============+
| Ubuntu 18.04 | PASS | PASS | PASS | PASS |
+--------------+----------------+---------------+---------------+--------------+
| FreeBSD 11.2 | PASS | SKIPPED | PASS | PASS |
+--------------+----------------+---------------+---------------+--------------+
| CentOS 8 | SKIPPED | PASS | PASS | PASS |
+--------------+----------------+---------------+---------------+--------------+
Ubuntu 18.04
Kernel: 4.15.0-generic
GCC: 7.4
FreeBSD 11.2
Kernel: 11.2
GCC: 8.3
CentOS 8
Kernel: 4.18.0.el8_0
GCC: 8.2
https://lab.dpdk.org/results/dashboard/patchsets/8652/
UNH-IOL DPDK Performance Test Lab
To manage your email subscriptions visit:
https://lab.dpdk.org/results/dashboard/preferences/subscriptions/
More information about the test-report
mailing list