[dpdk-test-report] |SUCCESS| [GIT MASTER] 18aeb9681c3af71b0ff0ff905cf2d2ff4b15a420
dpdklab at iol.unh.edu
dpdklab at iol.unh.edu
Thu Nov 21 20:56:23 CET 2019
_Compile Testing PASS_
Branch: dpdk-next-net
18aeb9681c3af71b0ff0ff905cf2d2ff4b15a420 --> compile testing pass
Test environment and result as below:
+--------------+----------------+---------------+--------------+---------------+
| Environment | dpdk_compile_s | dpdk_meson_co | dpdk_compile | dpdk_compile_ |
| | pdk | mpile | | ovs |
+==============+================+===============+==============+===============+
| Ubuntu 18.04 | PASS | PASS | PASS | PASS |
+--------------+----------------+---------------+--------------+---------------+
| FreeBSD 11.2 | PASS | PASS | PASS | SKIPPED |
+--------------+----------------+---------------+--------------+---------------+
| CentOS 8 | SKIPPED | PASS | PASS | PASS |
+--------------+----------------+---------------+--------------+---------------+
Ubuntu 18.04
Kernel: 4.15.0-generic
GCC: 7.4
FreeBSD 11.2
Kernel: 11.2
GCC: 8.3
CentOS 8
Kernel: 4.18.0.el8_0
GCC: 8.2
https://lab.dpdk.org/results/dashboard/tarballs/7231/
UNH-IOL DPDK Performance Test Lab
To manage your email subscriptions visit:
https://lab.dpdk.org/results/dashboard/preferences/subscriptions/
More information about the test-report
mailing list