[dpdk-test-report] |SUCCESS| pw63268 [PATCH] [v4] mbuf: extend pktmbuf pool private structure
dpdklab at iol.unh.edu
dpdklab at iol.unh.edu
Mon Nov 25 12:00:41 CET 2019
Test-Label: iol-compilation
Test-Status: SUCCESS
http://dpdk.org/patch/63268
_Compile Testing PASS_
Submitter: Shahaf Shuler <shahafs at mellanox.com>
Date: Monday, November 25 2019 10:21:32
DPDK git baseline: Repo:dpdk
Branch: master
CommitID:e5d0ba08703099c12e4bb2eac650cbb047df1a13
63268 --> compile testing pass
Test environment and result as below:
+--------------+----------------+--------------+---------------+---------------+
| Environment | dpdk_compile_o | dpdk_compile | dpdk_compile_ | dpdk_meson_co |
| | vs | | spdk | mpile |
+==============+================+==============+===============+===============+
| Ubuntu 18.04 | PASS | PASS | PASS | PASS |
+--------------+----------------+--------------+---------------+---------------+
| CentOS 8 | PASS | PASS | SKIPPED | PASS |
+--------------+----------------+--------------+---------------+---------------+
| FreeBSD 11.2 | SKIPPED | PASS | PASS | PASS |
+--------------+----------------+--------------+---------------+---------------+
Ubuntu 18.04
Kernel: 4.15.0-generic
GCC: 7.4
CentOS 8
Kernel: 4.18.0.el8_0
GCC: 8.2
FreeBSD 11.2
Kernel: 11.2
GCC: 8.3
https://lab.dpdk.org/results/dashboard/patchsets/8687/
UNH-IOL DPDK Performance Test Lab
To manage your email subscriptions visit:
https://lab.dpdk.org/results/dashboard/preferences/subscriptions/
More information about the test-report
mailing list