[dpdk-test-report] |SUCCESS| [GIT MASTER] 39a19ae03d8fe6210f3e7919b29378bd3223621c
dpdklab at iol.unh.edu
dpdklab at iol.unh.edu
Tue Nov 26 00:02:55 CET 2019
_Compile Testing PASS_
Branch: dpdk
39a19ae03d8fe6210f3e7919b29378bd3223621c --> compile testing pass
Test environment and result as below:
+--------------+--------------+----------------+---------------+---------------+
| Environment | dpdk_compile | dpdk_meson_com | dpdk_compile_ | dpdk_compile_ |
| | | pile | spdk | ovs |
+==============+==============+================+===============+===============+
| FreeBSD 11.2 | PASS | PASS | PASS | SKIPPED |
+--------------+--------------+----------------+---------------+---------------+
| Ubuntu 18.04 | PASS | PASS | PASS | PASS |
+--------------+--------------+----------------+---------------+---------------+
| CentOS 8 | PASS | PASS | SKIPPED | PASS |
+--------------+--------------+----------------+---------------+---------------+
FreeBSD 11.2
Kernel: 11.2
GCC: 8.3
Ubuntu 18.04
Kernel: 4.15.0-generic
GCC: 7.4
CentOS 8
Kernel: 4.18.0.el8_0
GCC: 8.2
https://lab.dpdk.org/results/dashboard/tarballs/7270/
UNH-IOL DPDK Performance Test Lab
To manage your email subscriptions visit:
https://lab.dpdk.org/results/dashboard/preferences/subscriptions/
More information about the test-report
mailing list