[dpdk-test-report] |SUCCESS| [GIT MASTER] 05210bd32dc8589b2078fd36e9a6e624ce319d2b
dpdklab at iol.unh.edu
dpdklab at iol.unh.edu
Tue Nov 26 16:41:23 CET 2019
_Compile Testing PASS_
Branch: dpdk-next-net-mlx
05210bd32dc8589b2078fd36e9a6e624ce319d2b --> compile testing pass
Test environment and result as below:
+--------------+----------------+--------------+---------------+---------------+
| Environment | dpdk_meson_com | dpdk_compile | dpdk_compile_ | dpdk_compile_ |
| | pile | | ovs | spdk |
+==============+================+==============+===============+===============+
| Ubuntu 18.04 | PASS | PASS | PASS | PASS |
+--------------+----------------+--------------+---------------+---------------+
| FreeBSD 11.2 | PASS | PASS | SKIPPED | PASS |
+--------------+----------------+--------------+---------------+---------------+
| CentOS 8 | PASS | PASS | PASS | SKIPPED |
+--------------+----------------+--------------+---------------+---------------+
Ubuntu 18.04
Kernel: 4.15.0-generic
GCC: 7.4
FreeBSD 11.2
Kernel: 11.2
GCC: 8.3
CentOS 8
Kernel: 4.18.0.el8_0
GCC: 8.2
https://lab.dpdk.org/results/dashboard/tarballs/7283/
UNH-IOL DPDK Performance Test Lab
To manage your email subscriptions visit:
https://lab.dpdk.org/results/dashboard/preferences/subscriptions/
More information about the test-report
mailing list