[dpdk-test-report] |SUCCESS| pw63347 [PATCH] test/service: fix wait for service core
dpdklab at iol.unh.edu
dpdklab at iol.unh.edu
Wed Nov 27 15:42:37 CET 2019
Test-Label: iol-compilation
Test-Status: SUCCESS
http://dpdk.org/patch/63347
_Compile Testing PASS_
Submitter: Van Haaren, Harry <harry.van.haaren at intel.com>
Date: Wednesday, November 27 2019 13:20:27
DPDK git baseline: Repo:dpdk
Branch: master
CommitID:ebf9c7b1db2fbc09f87eed4cf8486239786fcad1
63347 --> compile testing pass
Test environment and result as below:
+--------------+--------------+------------------+-------------------+
| Environment | dpdk_compile | dpdk_compile_ovs | dpdk_compile_spdk |
+==============+==============+==================+===================+
| Ubuntu 18.04 | PASS | PASS | PASS |
+--------------+--------------+------------------+-------------------+
| FreeBSD 11.2 | PASS | SKIPPED | PASS |
+--------------+--------------+------------------+-------------------+
| CentOS 8 | PASS | PASS | SKIPPED |
+--------------+--------------+------------------+-------------------+
Ubuntu 18.04
Kernel: 4.15.0-generic
GCC: 7.4
FreeBSD 11.2
Kernel: 11.2
GCC: 8.3
CentOS 8
Kernel: 4.18.0.el8_0
GCC: 8.2
https://lab.dpdk.org/results/dashboard/patchsets/8745/
UNH-IOL DPDK Performance Test Lab
To manage your email subscriptions visit:
https://lab.dpdk.org/results/dashboard/preferences/subscriptions/
More information about the test-report
mailing list