[dpdk-test-report] |SUCCESS| pw60304-60306 [PATCH] [v3, 1/3] examples/fips_validation: add TDES ECB support
dpdklab at iol.unh.edu
dpdklab at iol.unh.edu
Tue Oct 1 12:35:09 CEST 2019
Test-Label: iol-compilation
Test-Status: SUCCESS
http://dpdk.org/patch/60304
_Compile Testing PASS_
Submitter: Michael Shamis <michaelsh at marvell.com>
Date: Tuesday, October 01 2019 10:32:44
DPDK git baseline: Repo:dpdk
Branch: master
CommitID:bd253daa7717835f88bbc58b09a94d0060380396
60304-60306 --> compile testing pass
Test environment and result as below:
+--------------+------------------+--------------+-------------------+
| Environment | dpdk_compile_ovs | dpdk_compile | dpdk_compile_spdk |
+==============+==================+==============+===================+
| Ubuntu 18.04 | PASS | PASS | PASS |
+--------------+------------------+--------------+-------------------+
| FreeBSD 11.2 | | PASS | PASS |
+--------------+------------------+--------------+-------------------+
Ubuntu 18.04
Kernel: 4.15.0-generic
GCC: 7.4
FreeBSD 11.2
Kernel: 11.2
GCC: 8.3
https://lab.dpdk.org/results/dashboard/patchsets/7738/
UNH-IOL DPDK Performance Test Lab
To manage your email subscriptions visit:
https://lab.dpdk.org/results/dashboard/preferences/subscriptions/
More information about the test-report
mailing list