[dpdk-test-report] |SUCCESS| pw60545-60558 [PATCH] [v2, 01/14] ethdev: add support for hairpin queue
dpdklab at iol.unh.edu
dpdklab at iol.unh.edu
Fri Oct 4 22:21:23 CEST 2019
Test-Label: iol-compilation
Test-Status: SUCCESS
http://dpdk.org/patch/60545
_Compile Testing PASS_
Submitter: Ori Kam <orika at mellanox.com>
Date: Friday, October 04 2019 19:54:02
DPDK git baseline: Repo:dpdk-next-net
Branch: master
CommitID:c0ed0775feac2e5ff51c1b6403b4a1af4cc615af
60545-60558 --> compile testing pass
Test environment and result as below:
+--------------+-------------------+--------------+------------------+
| Environment | dpdk_compile_spdk | dpdk_compile | dpdk_compile_ovs |
+==============+===================+==============+==================+
| Ubuntu 18.04 | PASS | PASS | PASS |
+--------------+-------------------+--------------+------------------+
| FreeBSD 11.2 | PASS | PASS | |
+--------------+-------------------+--------------+------------------+
Ubuntu 18.04
Kernel: 4.15.0-generic
GCC: 7.4
FreeBSD 11.2
Kernel: 11.2
GCC: 8.3
https://lab.dpdk.org/results/dashboard/patchsets/7792/
UNH-IOL DPDK Performance Test Lab
To manage your email subscriptions visit:
https://lab.dpdk.org/results/dashboard/preferences/subscriptions/
More information about the test-report
mailing list