[dpdk-test-report] |SUCCESS| pw60653 [PATCH] net/bnxt: fix a check in rxq start op
dpdklab at iol.unh.edu
dpdklab at iol.unh.edu
Mon Oct 7 22:20:25 CEST 2019
Test-Label: iol-compilation
Test-Status: SUCCESS
http://dpdk.org/patch/60653
_Compile Testing PASS_
Submitter: Ajit Khaparde <ajit.khaparde at broadcom.com>
Date: Monday, October 07 2019 19:41:51
DPDK git baseline: Repo:dpdk-next-net
Branch: master
CommitID:836b1f31a9ffc86e80bf361cc104bf25cd818695
60653 --> compile testing pass
Test environment and result as below:
+--------------+------------------+-------------------+--------------+
| Environment | dpdk_compile_ovs | dpdk_compile_spdk | dpdk_compile |
+==============+==================+===================+==============+
| Ubuntu 18.04 | PASS | PASS | PASS |
+--------------+------------------+-------------------+--------------+
| FreeBSD 11.2 | | PASS | PASS |
+--------------+------------------+-------------------+--------------+
Ubuntu 18.04
Kernel: 4.15.0-generic
GCC: 7.4
FreeBSD 11.2
Kernel: 11.2
GCC: 8.3
https://lab.dpdk.org/results/dashboard/patchsets/7819/
UNH-IOL DPDK Performance Test Lab
To manage your email subscriptions visit:
https://lab.dpdk.org/results/dashboard/preferences/subscriptions/
More information about the test-report
mailing list