[dpdk-test-report] |SUCCESS| pw60697-60699 [PATCH] [v3, 1/3] test/crypto: add more AES GCM tests for QAT PMD
dpdklab at iol.unh.edu
dpdklab at iol.unh.edu
Tue Oct 8 15:20:24 CEST 2019
Test-Label: iol-compilation
Test-Status: SUCCESS
http://dpdk.org/patch/60697
_Compile Testing PASS_
Submitter: Adam Dybkowski <adamx.dybkowski at intel.com>
Date: Tuesday, October 08 2019 12:44:31
DPDK git baseline: Repo:dpdk
Branch: master
CommitID:5b5bb56532fd5dea5d6260c0a0e405c0e32da2a0
60697-60699 --> compile testing pass
Test environment and result as below:
+--------------+--------------+------------------+-------------------+
| Environment | dpdk_compile | dpdk_compile_ovs | dpdk_compile_spdk |
+==============+==============+==================+===================+
| FreeBSD 11.2 | PASS | | PASS |
+--------------+--------------+------------------+-------------------+
| Ubuntu 18.04 | PASS | PASS | PASS |
+--------------+--------------+------------------+-------------------+
FreeBSD 11.2
Kernel: 11.2
GCC: 8.3
Ubuntu 18.04
Kernel: 4.15.0-generic
GCC: 7.4
https://lab.dpdk.org/results/dashboard/patchsets/7832/
UNH-IOL DPDK Performance Test Lab
To manage your email subscriptions visit:
https://lab.dpdk.org/results/dashboard/preferences/subscriptions/
More information about the test-report
mailing list